BEGIN:VCALENDAR
VERSION:2.0
PRODID:-//Tukios.com/
BEGIN:VEVENT
UID:ba5f2d4e-f2bc-4a0c-8b33-0ba008fba9c2@www.comanchefh.com
DTSTAMP:20260420T171935Z
DTSTART:20260424T230000Z
DTEND:20260425T010000Z
SUMMARY:Public Viewing
DESCRIPTION:
URL:https://www.comanchefh.com/obituaries/syble-holmsley
LOCATION:Comanche Funeral Home     
GEO:0;0
END:VEVENT
END:VCALENDAR