BEGIN:VCALENDAR
VERSION:2.0
PRODID:-//Tukios.com/
BEGIN:VEVENT
UID:998a1df3-a6b8-471a-b971-156e9a27c2b3@www.comanchefh.com
DTSTAMP:20260420T172647Z
DTSTART:20260425T150000Z
DTEND:20260425T160000Z
SUMMARY:Funeral Service
DESCRIPTION:
URL:https://www.comanchefh.com/obituaries/syble-holmsley
LOCATION:Comanche Funeral Home     
GEO:0;0
END:VEVENT
END:VCALENDAR