BEGIN:VCALENDAR
VERSION:2.0
PRODID:-//Tukios.com/
BEGIN:VEVENT
UID:e625ffe6-78eb-4647-9ed7-f76c41320237@www.comanchefh.com
DTSTAMP:20260420T172629Z
DTSTART:20260425T160000Z
DTEND:20260425T170000Z
SUMMARY:Interment
DESCRIPTION:
URL:https://www.comanchefh.com/obituaries/syble-holmsley
LOCATION: Cottonwood Cemetery  Scurry TX 75158
GEO:32.4591129;-96.4005819
END:VEVENT
END:VCALENDAR